BEGIN:VCALENDAR
VERSION:2.0
PRODID:-//Elm Grove Junior Guild - ECPv6.15.20//NONSGML v1.0//EN
CALSCALE:GREGORIAN
METHOD:PUBLISH
X-ORIGINAL-URL:https://elmgrovejuniorguild.org
X-WR-CALDESC:Events for Elm Grove Junior Guild
REFRESH-INTERVAL;VALUE=DURATION:PT1H
X-Robots-Tag:noindex
X-PUBLISHED-TTL:PT1H
BEGIN:VTIMEZONE
TZID:America/Chicago
BEGIN:DAYLIGHT
TZOFFSETFROM:-0600
TZOFFSETTO:-0500
TZNAME:CDT
DTSTART:20230312T080000
END:DAYLIGHT
BEGIN:STANDARD
TZOFFSETFROM:-0500
TZOFFSETTO:-0600
TZNAME:CST
DTSTART:20231105T070000
END:STANDARD
BEGIN:DAYLIGHT
TZOFFSETFROM:-0600
TZOFFSETTO:-0500
TZNAME:CDT
DTSTART:20240310T080000
END:DAYLIGHT
BEGIN:STANDARD
TZOFFSETFROM:-0500
TZOFFSETTO:-0600
TZNAME:CST
DTSTART:20241103T070000
END:STANDARD
BEGIN:DAYLIGHT
TZOFFSETFROM:-0600
TZOFFSETTO:-0500
TZNAME:CDT
DTSTART:20250309T080000
END:DAYLIGHT
BEGIN:STANDARD
TZOFFSETFROM:-0500
TZOFFSETTO:-0600
TZNAME:CST
DTSTART:20251102T070000
END:STANDARD
BEGIN:DAYLIGHT
TZOFFSETFROM:-0600
TZOFFSETTO:-0500
TZNAME:CDT
DTSTART:20260308T080000
END:DAYLIGHT
BEGIN:STANDARD
TZOFFSETFROM:-0500
TZOFFSETTO:-0600
TZNAME:CST
DTSTART:20261101T070000
END:STANDARD
BEGIN:DAYLIGHT
TZOFFSETFROM:-0600
TZOFFSETTO:-0500
TZNAME:CDT
DTSTART:20270314T080000
END:DAYLIGHT
BEGIN:STANDARD
TZOFFSETFROM:-0500
TZOFFSETTO:-0600
TZNAME:CST
DTSTART:20271107T070000
END:STANDARD
END:VTIMEZONE
BEGIN:VEVENT
DTSTART;TZID=America/Chicago:20260101T080000
DTEND;TZID=America/Chicago:20260101T123000
DTSTAMP:20260423T141653
CREATED:20251209T030133Z
LAST-MODIFIED:20251209T030133Z
UID:14037-1767254400-1767270600@elmgrovejuniorguild.org
SUMMARY:New Year's Day Blood Drive
DESCRIPTION:This is a really important drive for our community– our local hospitals continue to need blood during the winter months\, but donations tend to drop during the holidays. You can help by signing up to donate or by encouraging your friends and neighbors to donate.
URL:https://elmgrovejuniorguild.org/event/new-years-day-blood-drive-2/
LOCATION:Elm Grove Village Hall\, 13600 Juneau Blvd\, Elm Grove\, WI\, 53122\, United States
CATEGORIES:Blood Drives
ATTACH;FMTTYPE=image/jpeg:https://elmgrovejuniorguild.org/wp-content/uploads/2021/05/Blood-Drive-Calendar-Listing.jpg
END:VEVENT
BEGIN:VEVENT
DTSTART;TZID=America/Chicago:20250806T140000
DTEND;TZID=America/Chicago:20250806T190000
DTSTAMP:20260423T141653
CREATED:20250423T172854Z
LAST-MODIFIED:20250423T172854Z
UID:13966-1754488800-1754506800@elmgrovejuniorguild.org
SUMMARY:August Blood Drive
DESCRIPTION:
URL:https://elmgrovejuniorguild.org/event/august-blood-drive-3/
LOCATION:Pilgrim Park Middle School\, 1500 Pilgrim Pkwy\, Elm Grove\, WI\, 53122
CATEGORIES:Blood Drives,Public
ATTACH;FMTTYPE=image/png:https://elmgrovejuniorguild.org/wp-content/uploads/2022/09/VersitiBloodDriveTodaySign_Tonawanda_16x9.png
END:VEVENT
BEGIN:VEVENT
DTSTART;TZID=America/Chicago:20250611T140000
DTEND;TZID=America/Chicago:20250611T190000
DTSTAMP:20260423T141653
CREATED:20250423T172454Z
LAST-MODIFIED:20250423T172454Z
UID:13964-1749650400-1749668400@elmgrovejuniorguild.org
SUMMARY:June Blood Drive
DESCRIPTION:
URL:https://elmgrovejuniorguild.org/event/june-blood-drive-3/
LOCATION:Pilgrim Park Middle School\, 1500 Pilgrim Pkwy\, Elm Grove\, WI\, 53122
CATEGORIES:Blood Drives,Public
ATTACH;FMTTYPE=image/jpeg:https://elmgrovejuniorguild.org/wp-content/uploads/2021/05/Blood-Drive-Calendar-Listing.jpg
END:VEVENT
BEGIN:VEVENT
DTSTART;TZID=America/Chicago:20250101T080000
DTEND;TZID=America/Chicago:20250101T130000
DTSTAMP:20260423T141653
CREATED:20220907T220233Z
LAST-MODIFIED:20241118T201751Z
UID:13144-1735718400-1735736400@elmgrovejuniorguild.org
SUMMARY:New Year’s Day Blood Drive
DESCRIPTION:Schedule Your Appointment
URL:https://elmgrovejuniorguild.org/event/new-years-day-blood-drive/
LOCATION:Village Hall Community Room\, 13600 Juneau Blvd\, Elm Grove\, WI\, 53122\, United States
CATEGORIES:Blood Drives
ATTACH;FMTTYPE=image/png:https://elmgrovejuniorguild.org/wp-content/uploads/2022/09/VersitiBloodDriveTodaySign_Tonawanda_16x9.png
END:VEVENT
BEGIN:VEVENT
DTSTART;TZID=America/Chicago:20241104T140000
DTEND;TZID=America/Chicago:20241104T190000
DTSTAMP:20260423T141653
CREATED:20240916T160004Z
LAST-MODIFIED:20241104T152141Z
UID:13753-1730728800-1730746800@elmgrovejuniorguild.org
SUMMARY:Fall Blood Drive
DESCRIPTION:
URL:https://elmgrovejuniorguild.org/event/fall-blood-drive/
LOCATION:Pilgrim Park Middle School\, 1500 Pilgrim Pkwy\, Elm Grove\, WI\, 53122
CATEGORIES:Blood Drives,Public
ATTACH;FMTTYPE=image/jpeg:https://elmgrovejuniorguild.org/wp-content/uploads/2023/11/VersitiTruck_Tonawanda-scaled.jpg
END:VEVENT
BEGIN:VEVENT
DTSTART;TZID=America/Chicago:20240305T140000
DTEND;TZID=America/Chicago:20240305T190000
DTSTAMP:20260423T141653
CREATED:20240131T204053Z
LAST-MODIFIED:20240220T200445Z
UID:13585-1709647200-1709665200@elmgrovejuniorguild.org
SUMMARY:March Blood Drive
DESCRIPTION:
URL:https://elmgrovejuniorguild.org/event/blood-drive/
LOCATION:Community United Methodist Church\, 14700 Watertown Plank Rd\, Elm Grove\, WI
CATEGORIES:Blood Drives
ATTACH;FMTTYPE=image/jpeg:https://elmgrovejuniorguild.org/wp-content/uploads/2021/05/Blood-Drive-Calendar-Listing.jpg
END:VEVENT
END:VCALENDAR