BEGIN:VCALENDAR
VERSION:2.0
PRODID:-//Elm Grove Junior Guild - ECPv6.15.20//NONSGML v1.0//EN
CALSCALE:GREGORIAN
METHOD:PUBLISH
X-ORIGINAL-URL:https://elmgrovejuniorguild.org
X-WR-CALDESC:Events for Elm Grove Junior Guild
REFRESH-INTERVAL;VALUE=DURATION:PT1H
X-Robots-Tag:noindex
X-PUBLISHED-TTL:PT1H
BEGIN:VTIMEZONE
TZID:America/Chicago
BEGIN:DAYLIGHT
TZOFFSETFROM:-0600
TZOFFSETTO:-0500
TZNAME:CDT
DTSTART:20240310T080000
END:DAYLIGHT
BEGIN:STANDARD
TZOFFSETFROM:-0500
TZOFFSETTO:-0600
TZNAME:CST
DTSTART:20241103T070000
END:STANDARD
BEGIN:DAYLIGHT
TZOFFSETFROM:-0600
TZOFFSETTO:-0500
TZNAME:CDT
DTSTART:20250309T080000
END:DAYLIGHT
BEGIN:STANDARD
TZOFFSETFROM:-0500
TZOFFSETTO:-0600
TZNAME:CST
DTSTART:20251102T070000
END:STANDARD
BEGIN:DAYLIGHT
TZOFFSETFROM:-0600
TZOFFSETTO:-0500
TZNAME:CDT
DTSTART:20260308T080000
END:DAYLIGHT
BEGIN:STANDARD
TZOFFSETFROM:-0500
TZOFFSETTO:-0600
TZNAME:CST
DTSTART:20261101T070000
END:STANDARD
END:VTIMEZONE
BEGIN:VEVENT
DTSTART;TZID=America/Chicago:20251103T133000
DTEND;TZID=America/Chicago:20251103T183000
DTSTAMP:20260423T152654
CREATED:20251021T151804Z
LAST-MODIFIED:20251021T151804Z
UID:14001-1762176600-1762194600@elmgrovejuniorguild.org
SUMMARY:November Blood Drive
DESCRIPTION:
URL:https://elmgrovejuniorguild.org/event/november-blood-drive/
LOCATION:Pilgrim Park Middle School\, 1500 Pilgrim Pkwy\, Elm Grove\, WI\, 53122
CATEGORIES:Community
ATTACH;FMTTYPE=image/jpeg:https://elmgrovejuniorguild.org/wp-content/uploads/2021/05/Blood-Drive-Calendar-Listing.jpg
END:VEVENT
BEGIN:VEVENT
DTSTART;TZID=America/Chicago:20250623T090000
DTEND;TZID=America/Chicago:20250623T110000
DTSTAMP:20260423T152654
CREATED:20250527T204952Z
LAST-MODIFIED:20250527T204952Z
UID:13975-1750669200-1750676400@elmgrovejuniorguild.org
SUMMARY:Safety Village
DESCRIPTION:June 23-27 9-11am \nSafety Village is a 4-day safety education program held each Summer emphasizing traffic\, fire\, and personal safety procedures in accordance with National Safety Town Guidelines. It is open to children enrolling in four or five year old Kindergarten by September 1.
URL:https://elmgrovejuniorguild.org/event/safety-village/
LOCATION:Mother’s Day Out Preschool\, 14700 Watertown Plank Rd\, ELM GROVE\, WI\, 53122
CATEGORIES:Community
ATTACH;FMTTYPE=image/jpeg:https://elmgrovejuniorguild.org/wp-content/uploads/2021/09/Safety-Village_2022.jpg
END:VEVENT
END:VCALENDAR