BEGIN:VCALENDAR
VERSION:2.0
PRODID:-//Elm Grove Junior Guild - ECPv6.15.20//NONSGML v1.0//EN
CALSCALE:GREGORIAN
METHOD:PUBLISH
X-ORIGINAL-URL:https://elmgrovejuniorguild.org
X-WR-CALDESC:Events for Elm Grove Junior Guild
REFRESH-INTERVAL;VALUE=DURATION:PT1H
X-Robots-Tag:noindex
X-PUBLISHED-TTL:PT1H
BEGIN:VTIMEZONE
TZID:America/Chicago
BEGIN:DAYLIGHT
TZOFFSETFROM:-0600
TZOFFSETTO:-0500
TZNAME:CDT
DTSTART:20210314T080000
END:DAYLIGHT
BEGIN:STANDARD
TZOFFSETFROM:-0500
TZOFFSETTO:-0600
TZNAME:CST
DTSTART:20211107T070000
END:STANDARD
BEGIN:DAYLIGHT
TZOFFSETFROM:-0600
TZOFFSETTO:-0500
TZNAME:CDT
DTSTART:20220313T080000
END:DAYLIGHT
BEGIN:STANDARD
TZOFFSETFROM:-0500
TZOFFSETTO:-0600
TZNAME:CST
DTSTART:20221106T070000
END:STANDARD
BEGIN:DAYLIGHT
TZOFFSETFROM:-0600
TZOFFSETTO:-0500
TZNAME:CDT
DTSTART:20230312T080000
END:DAYLIGHT
BEGIN:STANDARD
TZOFFSETFROM:-0500
TZOFFSETTO:-0600
TZNAME:CST
DTSTART:20231105T070000
END:STANDARD
BEGIN:DAYLIGHT
TZOFFSETFROM:-0600
TZOFFSETTO:-0500
TZNAME:CDT
DTSTART:20240310T080000
END:DAYLIGHT
BEGIN:STANDARD
TZOFFSETFROM:-0500
TZOFFSETTO:-0600
TZNAME:CST
DTSTART:20241103T070000
END:STANDARD
BEGIN:DAYLIGHT
TZOFFSETFROM:-0600
TZOFFSETTO:-0500
TZNAME:CDT
DTSTART:20250309T080000
END:DAYLIGHT
BEGIN:STANDARD
TZOFFSETFROM:-0500
TZOFFSETTO:-0600
TZNAME:CST
DTSTART:20251102T070000
END:STANDARD
END:VTIMEZONE
BEGIN:VEVENT
DTSTART;TZID=America/Chicago:20240917T183000
DTEND;TZID=America/Chicago:20240917T210000
DTSTAMP:20260423T124236
CREATED:20240916T153347Z
LAST-MODIFIED:20240916T153738Z
UID:13746-1726597800-1726606800@elmgrovejuniorguild.org
SUMMARY:2024-25 Guild Kickoff Event
DESCRIPTION:
URL:https://elmgrovejuniorguild.org/event/2024-2025-kickoff-event/
LOCATION:Zister’s\, 13245 Watertown Plank Road\, Elm Grove\, WI\, United States
CATEGORIES:Members
END:VEVENT
BEGIN:VEVENT
DTSTART;TZID=America/Chicago:20230919T183000
DTEND;TZID=America/Chicago:20230919T210000
DTSTAMP:20260423T124236
CREATED:20230810T193226Z
LAST-MODIFIED:20230810T194013Z
UID:13379-1695148200-1695157200@elmgrovejuniorguild.org
SUMMARY:Members Fall Kickoff
DESCRIPTION:Content is protected.
URL:https://elmgrovejuniorguild.org/event/members-fall-kickoff/
LOCATION:Fairgrounds\, 13320 Watertown Plank Rd\, Elm Grove\, WI
CATEGORIES:Members
END:VEVENT
BEGIN:VEVENT
DTSTART;VALUE=DATE:20230620
DTEND;VALUE=DATE:20230621
DTSTAMP:20260423T124236
CREATED:20220902T003552Z
LAST-MODIFIED:20220907T221721Z
UID:13094-1687219200-1687305599@elmgrovejuniorguild.org
SUMMARY:Executive Board and Committee Chair Hand off Meeting
DESCRIPTION:
URL:https://elmgrovejuniorguild.org/event/executive-board-and-committee-chair-hand-off-meeting/
CATEGORIES:Board,Members
END:VEVENT
BEGIN:VEVENT
DTSTART;VALUE=DATE:20230619
DTEND;VALUE=DATE:20230624
DTSTAMP:20260423T124236
CREATED:20210912T205049Z
LAST-MODIFIED:20230227T190047Z
UID:12734-1687132800-1687564799@elmgrovejuniorguild.org
SUMMARY:Safety Village
DESCRIPTION:Content is protected.
URL:https://elmgrovejuniorguild.org/event/safety-village-2/
LOCATION:Mother’s Day Out Preschool\, 14700 Watertown Plank Rd\, ELM GROVE\, WI\, 53122
CATEGORIES:Members
END:VEVENT
BEGIN:VEVENT
DTSTART;TZID=America/Chicago:20230606T183000
DTEND;TZID=America/Chicago:20230606T210000
DTSTAMP:20260423T124236
CREATED:20220902T004257Z
LAST-MODIFIED:20220902T004257Z
UID:13098-1686076200-1686085200@elmgrovejuniorguild.org
SUMMARY:June General Meeting: Game Night
DESCRIPTION:Content is protected.
URL:https://elmgrovejuniorguild.org/event/june-general-meeting-game-night/
LOCATION:Home of Nikki Donnelly\, 14355 Hillside Rd.\, ELM GROVE\, WI\, 53122\, United States
CATEGORIES:Members
END:VEVENT
BEGIN:VEVENT
DTSTART;TZID=America/Chicago:20230502T183000
DTEND;TZID=America/Chicago:20230502T210000
DTSTAMP:20260423T124236
CREATED:20220902T004959Z
LAST-MODIFIED:20220902T004959Z
UID:13104-1683052200-1683061200@elmgrovejuniorguild.org
SUMMARY:May General Meeting: Scholarship Recipients
DESCRIPTION:Content is protected.
URL:https://elmgrovejuniorguild.org/event/may-general-meeting-scholarship-recipients/
LOCATION:Home of Amanda Glassman\, 15150 Froedtert Dr.\, Elm Grove\, WI\, 53122\, United States
CATEGORIES:Members
END:VEVENT
BEGIN:VEVENT
DTSTART;VALUE=DATE:20230429
DTEND;VALUE=DATE:20230430
DTSTAMP:20260423T124236
CREATED:20230120T152056Z
LAST-MODIFIED:20230402T131558Z
UID:13294-1682726400-1682812799@elmgrovejuniorguild.org
SUMMARY:Progressive
DESCRIPTION:Details to follow
URL:https://elmgrovejuniorguild.org/event/progressive/
CATEGORIES:Associates,Board,Members
ATTACH;FMTTYPE=image/jpeg:https://elmgrovejuniorguild.org/wp-content/uploads/2019/09/HowToJoin.jpg
END:VEVENT
BEGIN:VEVENT
DTSTART;TZID=America/Chicago:20230404T183000
DTEND;TZID=America/Chicago:20230404T210000
DTSTAMP:20260423T124236
CREATED:20220902T005459Z
LAST-MODIFIED:20230120T151639Z
UID:13108-1680633000-1680642000@elmgrovejuniorguild.org
SUMMARY:April General Meeting
DESCRIPTION:Content is protected.
URL:https://elmgrovejuniorguild.org/event/april-general-meeting-charcuterie-board-demo/
LOCATION:Home of Emily Schneider\, 13685 Watertown Plank Rd.\, Elm Grove\, WI\, 53122\, United States
CATEGORIES:Members
END:VEVENT
BEGIN:VEVENT
DTSTART;TZID=America/Chicago:20230314T193000
DTEND;TZID=America/Chicago:20230314T223000
DTSTAMP:20260423T124236
CREATED:20230227T191138Z
LAST-MODIFIED:20230227T191138Z
UID:13333-1678822200-1678833000@elmgrovejuniorguild.org
SUMMARY:St. Patrick's Day Social
DESCRIPTION:Content is protected.
URL:https://elmgrovejuniorguild.org/event/st-patricks-day-social/
LOCATION:O’Donoghue’s Irish Pub\, 13225 Watertown Plank Rd.\, ELM GROVE\, WI\, 53122\, United States
CATEGORIES:Members
END:VEVENT
BEGIN:VEVENT
DTSTART;TZID=America/Chicago:20230307T183000
DTEND;TZID=America/Chicago:20230307T210000
DTSTAMP:20260423T124236
CREATED:20220902T005906Z
LAST-MODIFIED:20230302T233516Z
UID:13114-1678213800-1678222800@elmgrovejuniorguild.org
SUMMARY:March General Meeting
DESCRIPTION:Content is protected.
URL:https://elmgrovejuniorguild.org/event/march-general-meeting-tbd/
LOCATION:Home of Nicole Masnica\, 2005 Hawthorn Dr.\, ELM GROVE\, WI\, 53122\, United States
CATEGORIES:Members
END:VEVENT
BEGIN:VEVENT
DTSTART;TZID=America/Chicago:20230221T200000
DTEND;TZID=America/Chicago:20230221T213000
DTSTAMP:20260423T124236
CREATED:20230120T151818Z
LAST-MODIFIED:20230206T171914Z
UID:13292-1677009600-1677015000@elmgrovejuniorguild.org
SUMMARY:Final Grant Voting
DESCRIPTION:Hybrid Meeting- In-person w/ ZOOM option
URL:https://elmgrovejuniorguild.org/event/final-grant-voting/
CATEGORIES:Associates,Board,Members
ATTACH;FMTTYPE=image/jpeg:https://elmgrovejuniorguild.org/wp-content/uploads/2023/01/vote.jpg
END:VEVENT
BEGIN:VEVENT
DTSTART;TZID=America/Chicago:20221206T183000
DTEND;TZID=America/Chicago:20221206T210000
DTSTAMP:20260423T124236
CREATED:20220828T174431Z
LAST-MODIFIED:20221102T234026Z
UID:13077-1670351400-1670360400@elmgrovejuniorguild.org
SUMMARY:December General Meeting: Holiday Party
DESCRIPTION:Content is protected.
URL:https://elmgrovejuniorguild.org/event/december-general-meeting-holiday-party-2/
LOCATION:Home of Kate Kelly\, 14980 Juneau Blvd.\, Elm Grove\, WI\, 53122\, United States
CATEGORIES:Associates,Board,Members
END:VEVENT
BEGIN:VEVENT
DTSTART;TZID=America/Chicago:20221004T183000
DTEND;TZID=America/Chicago:20221004T210000
DTSTAMP:20260423T124236
CREATED:20220907T204238Z
LAST-MODIFIED:20220907T223659Z
UID:13129-1664908200-1664917200@elmgrovejuniorguild.org
SUMMARY:October General Meeting: "Free the Girls" Bra Fitting
DESCRIPTION:Content is protected.
URL:https://elmgrovejuniorguild.org/event/october-general-meeting-free-the-girls-bra-fitting/
LOCATION:Home of Meg Troy\, 1005 San Jose Dr.\, Elm Grove\, WI\, 53122\, United States
CATEGORIES:Members
END:VEVENT
BEGIN:VEVENT
DTSTART;TZID=America/Chicago:20220916T080000
DTEND;TZID=America/Chicago:20220930T170000
DTSTAMP:20260423T124236
CREATED:20220828T171720Z
LAST-MODIFIED:20220918T170543Z
UID:13049-1663315200-1664557200@elmgrovejuniorguild.org
SUMMARY:Fundraiser - MKE Pretzel Co
DESCRIPTION:We are excited to kick off the year with our September fundraiser. We are pairing with the Milwaukee Pretzel Company once again. If you have not yet enjoyed a soft pretzel from Milwaukee Pretzel Company’s pretzels\, please know they are DELICIOUS and you will not regret ordering the pretzels in mass quantities! Please share this order form with friends\, family\, co-workers\, your neighbors – everyone! \n\nAs you will see in the order form\, we have the opportunity to order:  \n\n\nOne 16 oz Bavarian Beast Soft Pretzel: $10 \nPackage of Five 5 oz Soft Pretzels: $15\nPackage of Ten 5 oz Soft Pretzels: $30\n\n\n\nTo place your order\, visit\nhttps://forms.gle/povDcqLNcGQUoipZA\n\n\n\n\nOrders must be submitted by end of day Friday\, September 30th and if you select the pick-up option\, pretzels can be picked up the week of October 24th – just in time for Halloween! Pretzel pick up address will be sent out at a later date and will be in Elm Grove. Pretzels can also be shipped directly from Milwaukee Pretzel for an additional charge (we do not receive 50% of the shipping charge).  \n \nTo read more about Milwaukee Pretzel visit Milwaukee Pretzel Co.
URL:https://elmgrovejuniorguild.org/event/fundraiser-mke-pretzel-co/
CATEGORIES:Members,Public
ATTACH;FMTTYPE=image/jpeg:https://elmgrovejuniorguild.org/wp-content/uploads/2022/08/images.jpeg
END:VEVENT
BEGIN:VEVENT
DTSTART;TZID=America/Chicago:20220913T183000
DTEND;TZID=America/Chicago:20220913T210000
DTSTAMP:20260423T124236
CREATED:20220828T171414Z
LAST-MODIFIED:20220904T202303Z
UID:13048-1663093800-1663102800@elmgrovejuniorguild.org
SUMMARY:EGJG Kickoff Event
DESCRIPTION:
URL:https://elmgrovejuniorguild.org/event/egjg-kickoff-event/
LOCATION:Biloba Brewing Company\, 2970 N. Brookfield Rd.\, Brookfield\, WI\, 53045\, United States
CATEGORIES:Associates,Board,Members
ATTACH;FMTTYPE=image/png:https://elmgrovejuniorguild.org/wp-content/uploads/2022/08/biloba.png
END:VEVENT
BEGIN:VEVENT
DTSTART;TZID=America/Chicago:20220907T080000
DTEND;TZID=America/Chicago:20220907T170000
DTSTAMP:20260423T124236
CREATED:20220907T221029Z
LAST-MODIFIED:20220907T221029Z
UID:13151-1662537600-1662570000@elmgrovejuniorguild.org
SUMMARY:Mid-Year Executive Board & Committee Chairs Meeting
DESCRIPTION:
URL:https://elmgrovejuniorguild.org/event/mid-year-executive-board-committee-chairs-meeting-2/
CATEGORIES:Members
ATTACH;FMTTYPE=image/jpeg:https://elmgrovejuniorguild.org/wp-content/uploads/2021/09/general-meeting.jpg
END:VEVENT
BEGIN:VEVENT
DTSTART;TZID=America/Chicago:20220906T183000
DTEND;TZID=America/Chicago:20220906T200000
DTSTAMP:20260423T124236
CREATED:20220828T172538Z
LAST-MODIFIED:20220829T211554Z
UID:13057-1662489000-1662494400@elmgrovejuniorguild.org
SUMMARY:Budget Planning Meeting
DESCRIPTION:
URL:https://elmgrovejuniorguild.org/event/budget-planning-meeting-2/
CATEGORIES:Board,Members
ATTACH;FMTTYPE=image/png:https://elmgrovejuniorguild.org/wp-content/uploads/2022/08/BudgetPlanning.png
END:VEVENT
END:VCALENDAR