BEGIN:VCALENDAR
VERSION:2.0
PRODID:-//Elm Grove Junior Guild - ECPv6.15.20//NONSGML v1.0//EN
CALSCALE:GREGORIAN
METHOD:PUBLISH
X-WR-CALNAME:Elm Grove Junior Guild
X-ORIGINAL-URL:https://elmgrovejuniorguild.org
X-WR-CALDESC:Events for Elm Grove Junior Guild
REFRESH-INTERVAL;VALUE=DURATION:PT1H
X-Robots-Tag:noindex
X-PUBLISHED-TTL:PT1H
BEGIN:VTIMEZONE
TZID:America/Chicago
BEGIN:DAYLIGHT
TZOFFSETFROM:-0600
TZOFFSETTO:-0500
TZNAME:CDT
DTSTART:20210314T080000
END:DAYLIGHT
BEGIN:STANDARD
TZOFFSETFROM:-0500
TZOFFSETTO:-0600
TZNAME:CST
DTSTART:20211107T070000
END:STANDARD
BEGIN:DAYLIGHT
TZOFFSETFROM:-0600
TZOFFSETTO:-0500
TZNAME:CDT
DTSTART:20220313T080000
END:DAYLIGHT
BEGIN:STANDARD
TZOFFSETFROM:-0500
TZOFFSETTO:-0600
TZNAME:CST
DTSTART:20221106T070000
END:STANDARD
BEGIN:DAYLIGHT
TZOFFSETFROM:-0600
TZOFFSETTO:-0500
TZNAME:CDT
DTSTART:20230312T080000
END:DAYLIGHT
BEGIN:STANDARD
TZOFFSETFROM:-0500
TZOFFSETTO:-0600
TZNAME:CST
DTSTART:20231105T070000
END:STANDARD
BEGIN:DAYLIGHT
TZOFFSETFROM:-0600
TZOFFSETTO:-0500
TZNAME:CDT
DTSTART:20240310T080000
END:DAYLIGHT
BEGIN:STANDARD
TZOFFSETFROM:-0500
TZOFFSETTO:-0600
TZNAME:CST
DTSTART:20241103T070000
END:STANDARD
BEGIN:DAYLIGHT
TZOFFSETFROM:-0600
TZOFFSETTO:-0500
TZNAME:CDT
DTSTART:20250309T080000
END:DAYLIGHT
BEGIN:STANDARD
TZOFFSETFROM:-0500
TZOFFSETTO:-0600
TZNAME:CST
DTSTART:20251102T070000
END:STANDARD
END:VTIMEZONE
BEGIN:VEVENT
DTSTART;TZID=America/Chicago:20240608T150000
DTEND;TZID=America/Chicago:20240608T210000
DTSTAMP:20260425T072653
CREATED:20240525T212831Z
LAST-MODIFIED:20240525T213340Z
UID:13679-1717858800-1717880400@elmgrovejuniorguild.org
SUMMARY:Guild Night at the Garden
DESCRIPTION:Come join us at the Elm Grove Beer Garden on Saturday\, June 8 for Guild Night at the Garden! Third Space Brewing is generously donating 20% of the evening’s proceeds to the Guild.
URL:https://elmgrovejuniorguild.org/event/guild-night-at-the-garden/
LOCATION:Elm Grove Village Park\, 13600 Juneau Blvd\, Elm Grove\, 53122\, United States
ATTACH;FMTTYPE=image/png:https://elmgrovejuniorguild.org/wp-content/uploads/2024/05/Guild-Night-at-the-Garden.png
END:VEVENT
BEGIN:VEVENT
DTSTART;TZID=America/Chicago:20240527T103000
DTEND;TZID=America/Chicago:20240527T113000
DTSTAMP:20260425T072653
CREATED:20231112T013540Z
LAST-MODIFIED:20231112T013809Z
UID:13540-1716805800-1716809400@elmgrovejuniorguild.org
SUMMARY:Memorial Day Parade
DESCRIPTION:
URL:https://elmgrovejuniorguild.org/event/memorial-day-parade/
LOCATION:WI
ATTACH;FMTTYPE=image/png:https://elmgrovejuniorguild.org/wp-content/uploads/2023/11/EGJG_MemorialDayFlags.png
END:VEVENT
BEGIN:VEVENT
DTSTART;TZID=America/Chicago:20240504T140000
DTEND;TZID=America/Chicago:20240504T170000
DTSTAMP:20260425T072653
CREATED:20231112T013244Z
LAST-MODIFIED:20231112T014517Z
UID:13538-1714831200-1714842000@elmgrovejuniorguild.org
SUMMARY:Spring Celebration Children’s Event
DESCRIPTION:
URL:https://elmgrovejuniorguild.org/event/spring-celebration-childrens-event/
LOCATION:Elm Grove Village Park\, 13600 Juneau Blvd\, Elm Grove\, 53122\, United States
ATTACH;FMTTYPE=image/png:https://elmgrovejuniorguild.org/wp-content/uploads/2023/04/Spring-Fest-2022.png
END:VEVENT
BEGIN:VEVENT
DTSTART;TZID=America/Chicago:20240305T140000
DTEND;TZID=America/Chicago:20240305T190000
DTSTAMP:20260425T072653
CREATED:20240131T204053Z
LAST-MODIFIED:20240220T200445Z
UID:13585-1709647200-1709665200@elmgrovejuniorguild.org
SUMMARY:March Blood Drive
DESCRIPTION:
URL:https://elmgrovejuniorguild.org/event/blood-drive/
LOCATION:Community United Methodist Church\, 14700 Watertown Plank Rd\, Elm Grove\, WI
CATEGORIES:Blood Drives
ATTACH;FMTTYPE=image/jpeg:https://elmgrovejuniorguild.org/wp-content/uploads/2021/05/Blood-Drive-Calendar-Listing.jpg
END:VEVENT
BEGIN:VEVENT
DTSTART;VALUE=DATE:20240203
DTEND;VALUE=DATE:20240204
DTSTAMP:20260425T072653
CREATED:20230810T192901Z
LAST-MODIFIED:20231112T014454Z
UID:13376-1706918400-1707004799@elmgrovejuniorguild.org
SUMMARY:Tree of Giving Gala
DESCRIPTION:
URL:https://elmgrovejuniorguild.org/event/tree-of-giving-gala/
LOCATION:The Factory on Barclay\, 1120 S Barclay St\, Milwaukee\, WI
CATEGORIES:Public
ATTACH;FMTTYPE=image/jpeg:https://elmgrovejuniorguild.org/wp-content/uploads/2019/09/GalaHeader.jpg
END:VEVENT
BEGIN:VEVENT
DTSTART;VALUE=DATE:20240201
DTEND;VALUE=DATE:20240409
DTSTAMP:20260425T072653
CREATED:20231112T013019Z
LAST-MODIFIED:20231112T015255Z
UID:13535-1706745600-1712620799@elmgrovejuniorguild.org
SUMMARY:Scholarship Application Open for Submission
DESCRIPTION:
URL:https://elmgrovejuniorguild.org/event/scholarship-application-open/
LOCATION:WI
ATTACH;FMTTYPE=image/png:https://elmgrovejuniorguild.org/wp-content/uploads/2023/11/EGJG_Scholarship2.png
END:VEVENT
BEGIN:VEVENT
DTSTART;VALUE=DATE:20240101
DTEND;VALUE=DATE:20240201
DTSTAMP:20260425T072653
CREATED:20231112T012816Z
LAST-MODIFIED:20231112T012836Z
UID:13532-1704067200-1706745599@elmgrovejuniorguild.org
SUMMARY:Spring Membership Drive
DESCRIPTION:
URL:https://elmgrovejuniorguild.org/event/spring-membership-drive/
LOCATION:WI
ATTACH;FMTTYPE=image/png:https://elmgrovejuniorguild.org/wp-content/uploads/2023/11/EGJG_Membership.png
END:VEVENT
BEGIN:VEVENT
DTSTART;VALUE=DATE:20231001
DTEND;VALUE=DATE:20231201
DTSTAMP:20260425T072653
CREATED:20231112T014731Z
LAST-MODIFIED:20231112T014731Z
UID:13547-1696118400-1701388799@elmgrovejuniorguild.org
SUMMARY:Grants Submission Window Open
DESCRIPTION:
URL:https://elmgrovejuniorguild.org/event/grants-submission-window-open/
LOCATION:WI
ATTACH;FMTTYPE=image/png:https://elmgrovejuniorguild.org/wp-content/uploads/2023/11/EGJG_Grants.png
END:VEVENT
BEGIN:VEVENT
DTSTART;TZID=America/Chicago:20230919T183000
DTEND;TZID=America/Chicago:20230919T210000
DTSTAMP:20260425T072653
CREATED:20230810T193226Z
LAST-MODIFIED:20230810T194013Z
UID:13379-1695148200-1695157200@elmgrovejuniorguild.org
SUMMARY:Members Fall Kickoff
DESCRIPTION:Content is protected.
URL:https://elmgrovejuniorguild.org/event/members-fall-kickoff/
LOCATION:Fairgrounds\, 13320 Watertown Plank Rd\, Elm Grove\, WI
CATEGORIES:Members
END:VEVENT
BEGIN:VEVENT
DTSTART;VALUE=DATE:20230620
DTEND;VALUE=DATE:20230621
DTSTAMP:20260425T072653
CREATED:20220902T003552Z
LAST-MODIFIED:20220907T221721Z
UID:13094-1687219200-1687305599@elmgrovejuniorguild.org
SUMMARY:Executive Board and Committee Chair Hand off Meeting
DESCRIPTION:
URL:https://elmgrovejuniorguild.org/event/executive-board-and-committee-chair-hand-off-meeting/
LOCATION:WI
CATEGORIES:Board,Members
END:VEVENT
BEGIN:VEVENT
DTSTART;VALUE=DATE:20230619
DTEND;VALUE=DATE:20230624
DTSTAMP:20260425T072653
CREATED:20210912T205049Z
LAST-MODIFIED:20230227T190047Z
UID:12734-1687132800-1687564799@elmgrovejuniorguild.org
SUMMARY:Safety Village
DESCRIPTION:Content is protected.
URL:https://elmgrovejuniorguild.org/event/safety-village-2/
LOCATION:Mother’s Day Out Preschool\, 14700 Watertown Plank Rd\, ELM GROVE\, WI\, 53122
CATEGORIES:Members
END:VEVENT
BEGIN:VEVENT
DTSTART;TZID=America/Chicago:20230606T183000
DTEND;TZID=America/Chicago:20230606T210000
DTSTAMP:20260425T072653
CREATED:20220902T004257Z
LAST-MODIFIED:20220902T004257Z
UID:13098-1686076200-1686085200@elmgrovejuniorguild.org
SUMMARY:June General Meeting: Game Night
DESCRIPTION:Content is protected.
URL:https://elmgrovejuniorguild.org/event/june-general-meeting-game-night/
LOCATION:Home of Nikki Donnelly\, 14355 Hillside Rd.\, ELM GROVE\, WI\, 53122\, United States
CATEGORIES:Members
END:VEVENT
BEGIN:VEVENT
DTSTART;VALUE=DATE:20230601
DTEND;VALUE=DATE:20230701
DTSTAMP:20260425T072653
CREATED:20220902T003713Z
LAST-MODIFIED:20220902T003713Z
UID:13096-1685577600-1688169599@elmgrovejuniorguild.org
SUMMARY:June Blood Drive
DESCRIPTION:
URL:https://elmgrovejuniorguild.org/event/june-blood-drive/
LOCATION:WI
ATTACH;FMTTYPE=image/png:https://elmgrovejuniorguild.org/wp-content/uploads/2022/09/Versiti.png
END:VEVENT
BEGIN:VEVENT
DTSTART;VALUE=DATE:20230503
DTEND;VALUE=DATE:20230508
DTSTAMP:20260425T072653
CREATED:20230227T191542Z
LAST-MODIFIED:20230227T191542Z
UID:13338-1683072000-1683503999@elmgrovejuniorguild.org
SUMMARY:Divine Consign
DESCRIPTION:
URL:https://elmgrovejuniorguild.org/event/divine-consign/
LOCATION:Waukesha County Expo Center\, 1000 Northview Rd.\, Waukesha\, WI\, 53188\, United States
ATTACH;FMTTYPE=image/png:https://elmgrovejuniorguild.org/wp-content/uploads/2022/04/Divine-Consign-Logo-white-on-navy.png
END:VEVENT
BEGIN:VEVENT
DTSTART;TZID=America/Chicago:20230502T183000
DTEND;TZID=America/Chicago:20230502T210000
DTSTAMP:20260425T072653
CREATED:20220902T004959Z
LAST-MODIFIED:20220902T004959Z
UID:13104-1683052200-1683061200@elmgrovejuniorguild.org
SUMMARY:May General Meeting: Scholarship Recipients
DESCRIPTION:Content is protected.
URL:https://elmgrovejuniorguild.org/event/may-general-meeting-scholarship-recipients/
LOCATION:Home of Amanda Glassman\, 15150 Froedtert Dr.\, Elm Grove\, WI\, 53122\, United States
CATEGORIES:Members
END:VEVENT
BEGIN:VEVENT
DTSTART;VALUE=DATE:20230429
DTEND;VALUE=DATE:20230430
DTSTAMP:20260425T072653
CREATED:20230120T152056Z
LAST-MODIFIED:20230402T131558Z
UID:13294-1682726400-1682812799@elmgrovejuniorguild.org
SUMMARY:Progressive
DESCRIPTION:Details to follow
URL:https://elmgrovejuniorguild.org/event/progressive/
LOCATION:WI
CATEGORIES:Associates,Board,Members
ATTACH;FMTTYPE=image/jpeg:https://elmgrovejuniorguild.org/wp-content/uploads/2019/09/HowToJoin.jpg
END:VEVENT
BEGIN:VEVENT
DTSTART;TZID=America/Chicago:20230415T140000
DTEND;TZID=America/Chicago:20230415T160000
DTSTAMP:20260425T072653
CREATED:20230412T010057Z
LAST-MODIFIED:20230412T010057Z
UID:13357-1681567200-1681574400@elmgrovejuniorguild.org
SUMMARY:Spring Fest
DESCRIPTION:Come join the EGJG Children’s Committee and enjoy some spring time activities and refreshments in the park. \nCome rain or shine (if rain\, we will be in the Village Hall lower level).
URL:https://elmgrovejuniorguild.org/event/spring-fest/
LOCATION:Elm Grove Village Park\, 13600 Juneau Blvd\, Elm Grove\, 53122\, United States
ATTACH;FMTTYPE=image/png:https://elmgrovejuniorguild.org/wp-content/uploads/2023/04/Spring-Fest-2022.png
END:VEVENT
BEGIN:VEVENT
DTSTART;TZID=America/Chicago:20230404T183000
DTEND;TZID=America/Chicago:20230404T210000
DTSTAMP:20260425T072653
CREATED:20220902T005459Z
LAST-MODIFIED:20230120T151639Z
UID:13108-1680633000-1680642000@elmgrovejuniorguild.org
SUMMARY:April General Meeting
DESCRIPTION:Content is protected.
URL:https://elmgrovejuniorguild.org/event/april-general-meeting-charcuterie-board-demo/
LOCATION:Home of Emily Schneider\, 13685 Watertown Plank Rd.\, Elm Grove\, WI\, 53122\, United States
CATEGORIES:Members
END:VEVENT
BEGIN:VEVENT
DTSTART;VALUE=DATE:20230401
DTEND;VALUE=DATE:20230402
DTSTAMP:20260425T072653
CREATED:20220902T005600Z
LAST-MODIFIED:20230314T160914Z
UID:13112-1680307200-1680393599@elmgrovejuniorguild.org
SUMMARY:Scholarship Applications Due
DESCRIPTION:
URL:https://elmgrovejuniorguild.org/event/scholarship-applications-due-2/
LOCATION:WI
CATEGORIES:Public
ATTACH;FMTTYPE=image/jpeg:https://elmgrovejuniorguild.org/wp-content/uploads/2022/09/scholarship-deadline.jpg
END:VEVENT
BEGIN:VEVENT
DTSTART;TZID=America/Chicago:20230314T193000
DTEND;TZID=America/Chicago:20230314T223000
DTSTAMP:20260425T072653
CREATED:20230227T191138Z
LAST-MODIFIED:20230227T191138Z
UID:13333-1678822200-1678833000@elmgrovejuniorguild.org
SUMMARY:St. Patrick's Day Social
DESCRIPTION:Content is protected.
URL:https://elmgrovejuniorguild.org/event/st-patricks-day-social/
LOCATION:O’Donoghue’s Irish Pub\, 13225 Watertown Plank Rd.\, ELM GROVE\, WI\, 53122\, United States
CATEGORIES:Members
END:VEVENT
BEGIN:VEVENT
DTSTART;TZID=America/Chicago:20230307T183000
DTEND;TZID=America/Chicago:20230307T210000
DTSTAMP:20260425T072653
CREATED:20220902T005906Z
LAST-MODIFIED:20230302T233516Z
UID:13114-1678213800-1678222800@elmgrovejuniorguild.org
SUMMARY:March General Meeting
DESCRIPTION:Content is protected.
URL:https://elmgrovejuniorguild.org/event/march-general-meeting-tbd/
LOCATION:Home of Nicole Masnica\, 2005 Hawthorn Dr.\, ELM GROVE\, WI\, 53122\, United States
CATEGORIES:Members
END:VEVENT
BEGIN:VEVENT
DTSTART;TZID=America/Chicago:20230303T080000
DTEND;TZID=America/Chicago:20230303T170000
DTSTAMP:20260425T072653
CREATED:20230227T190208Z
LAST-MODIFIED:20230303T164029Z
UID:13329-1677830400-1677862800@elmgrovejuniorguild.org
SUMMARY:Safety Village Sign Up
DESCRIPTION:Content is protected.
URL:https://elmgrovejuniorguild.org/event/safety-village-sign-up/
LOCATION:WI
END:VEVENT
BEGIN:VEVENT
DTSTART;TZID=America/Chicago:20230221T200000
DTEND;TZID=America/Chicago:20230221T213000
DTSTAMP:20260425T072653
CREATED:20230120T151818Z
LAST-MODIFIED:20230206T171914Z
UID:13292-1677009600-1677015000@elmgrovejuniorguild.org
SUMMARY:Final Grant Voting
DESCRIPTION:Hybrid Meeting- In-person w/ ZOOM option
URL:https://elmgrovejuniorguild.org/event/final-grant-voting/
LOCATION:WI
CATEGORIES:Associates,Board,Members
ATTACH;FMTTYPE=image/jpeg:https://elmgrovejuniorguild.org/wp-content/uploads/2023/01/vote.jpg
END:VEVENT
BEGIN:VEVENT
DTSTART;TZID=America/Chicago:20230207T183000
DTEND;TZID=America/Chicago:20230207T210000
DTSTAMP:20260425T072653
CREATED:20220902T010143Z
LAST-MODIFIED:20230120T151511Z
UID:13117-1675794600-1675803600@elmgrovejuniorguild.org
SUMMARY:February General Meeting: Grant Presentations
DESCRIPTION:
URL:https://elmgrovejuniorguild.org/event/february-general-meeting-grant-presentations-and-voting/
LOCATION:Elm Grove Women’s Club\, 13885 Watertown Plank Road\, Elm Grove\, WI\, 53122\, United States
CATEGORIES:Public
ATTACH;FMTTYPE=image/jpeg:https://elmgrovejuniorguild.org/wp-content/uploads/2022/09/GRANT-APPLICATION-GRAPHIC-01.jpg
END:VEVENT
BEGIN:VEVENT
DTSTART;VALUE=DATE:20230201
DTEND;VALUE=DATE:20230402
DTSTAMP:20260425T072653
CREATED:20220902T010313Z
LAST-MODIFIED:20230206T173413Z
UID:13120-1675209600-1680393599@elmgrovejuniorguild.org
SUMMARY:Scholarship Application Open for Submission
DESCRIPTION:
URL:https://elmgrovejuniorguild.org/event/scholarship-application-open-for-submission/
LOCATION:WI
CATEGORIES:Public
ATTACH;FMTTYPE=image/jpeg:https://elmgrovejuniorguild.org/wp-content/uploads/2022/09/scholarship-graphic-dp.jpg
END:VEVENT
BEGIN:VEVENT
DTSTART;VALUE=DATE:20230124
DTEND;VALUE=DATE:20230125
DTSTAMP:20260425T072653
CREATED:20230120T151415Z
LAST-MODIFIED:20230120T151415Z
UID:13288-1674518400-1674604799@elmgrovejuniorguild.org
SUMMARY:New Member Social
DESCRIPTION:
URL:https://elmgrovejuniorguild.org/event/new-member-social/
LOCATION:WI
CATEGORIES:Public
END:VEVENT
BEGIN:VEVENT
DTSTART;TZID=America/Chicago:20230114T173000
DTEND;TZID=America/Chicago:20230115T000000
DTSTAMP:20260425T072653
CREATED:20230111T022614Z
LAST-MODIFIED:20230111T022614Z
UID:13279-1673717400-1673740800@elmgrovejuniorguild.org
SUMMARY:57th Annual Tree of Giving Gala
DESCRIPTION:57th Annual Tree of Giving Gala\n\n \nTickets can be purchased here: http://bidpal.net/egjggala2023\n\n\nThe Tree of Giving Gala is an all-inclusive formal event set to be held at Brookfield Conference Center on January 14\, 2023. This year’s event will feature fabulous live and silent auction items\, raffles\, and other unique giving opportunities. We can’t wait to see you there! \n5:30-6:00 pm: Check-in \n5:30-7:00 pm: Cocktail reception with hors d’oeuvres and music by Joe Wray; Silent Auction begins \n7:00pm- Dinner \n7:45 pm- Live presentation begins: Heads or Tails\, Golden Ticket drawing\, Live Auction \n~Silent Auction closes 5 minutes after Live Auction~ \n8:15 pm- Last Person Standing (*new this year*) \n8:30 pm- Dancing with music by Random Maxx \n9:15 -9:45 pm- Auction Check-out \n12:00 am- Party is over.
URL:https://elmgrovejuniorguild.org/event/57th-annual-tree-of-giving-gala/
LOCATION:Brookfield Conference Center\, 325 South Moorland Rd.\, Brookfield\, WI\, 53005\, United States
CATEGORIES:Public
ATTACH;FMTTYPE=image/png:https://elmgrovejuniorguild.org/wp-content/uploads/2022/09/gala2023.png
END:VEVENT
BEGIN:VEVENT
DTSTART;TZID=America/Chicago:20230103T183000
DTEND;TZID=America/Chicago:20230103T210000
DTSTAMP:20260425T072653
CREATED:20220907T220510Z
LAST-MODIFIED:20220907T220510Z
UID:13146-1672770600-1672779600@elmgrovejuniorguild.org
SUMMARY:January General Meeting
DESCRIPTION:
URL:https://elmgrovejuniorguild.org/event/january-general-meeting/
LOCATION:WI
ATTACH;FMTTYPE=image/jpeg:https://elmgrovejuniorguild.org/wp-content/uploads/2021/09/general-meeting.jpg
END:VEVENT
BEGIN:VEVENT
DTSTART;TZID=America/Chicago:20230101T080000
DTEND;TZID=America/Chicago:20230131T170000
DTSTAMP:20260425T072653
CREATED:20220907T215509Z
LAST-MODIFIED:20230103T222808Z
UID:13142-1672560000-1675184400@elmgrovejuniorguild.org
SUMMARY:Mid-Year Member Enrollment
DESCRIPTION:
URL:https://elmgrovejuniorguild.org/event/mid-year-member-enrollment/
LOCATION:WI
CATEGORIES:Public
ATTACH;FMTTYPE=image/jpeg:https://elmgrovejuniorguild.org/wp-content/uploads/2022/09/294301314_10113393757394697_787577739900718324_n.jpg
END:VEVENT
BEGIN:VEVENT
DTSTART;TZID=America/Chicago:20221217T090000
DTEND;TZID=America/Chicago:20221217T123000
DTSTAMP:20260425T072653
CREATED:20220907T215402Z
LAST-MODIFIED:20221120T232945Z
UID:13140-1671267600-1671280200@elmgrovejuniorguild.org
SUMMARY:Breakfast with Santa
DESCRIPTION:This year’s event will feature an all-you-can-eat breakfast buffet\, live music and the opportunity to meet Santa and take photos. \nAdvance ticket purchase required. Children under age 2 are not required to have a ticket and may sit on the lap of an adult for free. \nChoose from a 9am (SOLD OUT) or 11am seating. \nFor tickets\, please visit the Elm Grove Women’s Club website:  https://www.egwc.org/events/breakfast-with-santa \n 
URL:https://elmgrovejuniorguild.org/event/santa-brunch-2/
LOCATION:Elm Grove Women’s Club\, 13885 Watertown Plank Road\, Elm Grove\, WI\, 53122\, United States
CATEGORIES:Public
ATTACH;FMTTYPE=image/webp:https://elmgrovejuniorguild.org/wp-content/uploads/2022/09/breakfast-with-santa.webp
END:VEVENT
END:VCALENDAR