BEGIN:VCALENDAR
VERSION:2.0
PRODID:-//Elm Grove Junior Guild - ECPv6.15.20//NONSGML v1.0//EN
CALSCALE:GREGORIAN
METHOD:PUBLISH
X-WR-CALNAME:Elm Grove Junior Guild
X-ORIGINAL-URL:https://elmgrovejuniorguild.org
X-WR-CALDESC:Events for Elm Grove Junior Guild
REFRESH-INTERVAL;VALUE=DURATION:PT1H
X-Robots-Tag:noindex
X-PUBLISHED-TTL:PT1H
BEGIN:VTIMEZONE
TZID:America/Chicago
BEGIN:DAYLIGHT
TZOFFSETFROM:-0600
TZOFFSETTO:-0500
TZNAME:CDT
DTSTART:20210314T080000
END:DAYLIGHT
BEGIN:STANDARD
TZOFFSETFROM:-0500
TZOFFSETTO:-0600
TZNAME:CST
DTSTART:20211107T070000
END:STANDARD
BEGIN:DAYLIGHT
TZOFFSETFROM:-0600
TZOFFSETTO:-0500
TZNAME:CDT
DTSTART:20220313T080000
END:DAYLIGHT
BEGIN:STANDARD
TZOFFSETFROM:-0500
TZOFFSETTO:-0600
TZNAME:CST
DTSTART:20221106T070000
END:STANDARD
BEGIN:DAYLIGHT
TZOFFSETFROM:-0600
TZOFFSETTO:-0500
TZNAME:CDT
DTSTART:20230312T080000
END:DAYLIGHT
BEGIN:STANDARD
TZOFFSETFROM:-0500
TZOFFSETTO:-0600
TZNAME:CST
DTSTART:20231105T070000
END:STANDARD
END:VTIMEZONE
BEGIN:VEVENT
DTSTART;VALUE=DATE:20221101
DTEND;VALUE=DATE:20221201
DTSTAMP:20260425T060642
CREATED:20221102T234835Z
LAST-MODIFIED:20221102T234835Z
UID:13217-1667260800-1669852799@elmgrovejuniorguild.org
SUMMARY:November Community Service Drive- OneHope27
DESCRIPTION:www.onehope27.org \nWe would like to gather items to create placement bags for kids as they transition to their new foster families. \nRequested items (new with tags) include: \n\ngift cards $20-25 to Target/Walmart for older teens\npreemie baby leggings\nGirl leggings baby-18 years\nPJs- girls/boys 9m\, 2T\nclothing- 2T\nDiapers: preemie\, newborn\nPull ups: 2t/3t\, 4t/5t\nToiletries: deodorant (travel size)\, toddler toothpaste/toothbrush\nWish list on Target: https://www.target.com/gift-registry/gift-giver?registryId=9d315960-749c-11ec-a286-ad66826d0b63&type=CHARITY\n\nDrop off items at Nhu Arn’s home.
URL:https://elmgrovejuniorguild.org/event/november-community-service-drive-onehope27/
ATTACH;FMTTYPE=image/png:https://elmgrovejuniorguild.org/wp-content/uploads/2022/11/logo_onehope27.png
END:VEVENT
BEGIN:VEVENT
DTSTART;TZID=America/Chicago:20221029T170000
DTEND;TZID=America/Chicago:20221029T193000
DTSTAMP:20260425T060642
CREATED:20220828T174104Z
LAST-MODIFIED:20220828T174104Z
UID:13070-1667062800-1667071800@elmgrovejuniorguild.org
SUMMARY:Elm Grove Village Trick or Treat
DESCRIPTION:
URL:https://elmgrovejuniorguild.org/event/elm-grove-village-trick-or-treat/
CATEGORIES:Public
END:VEVENT
BEGIN:VEVENT
DTSTART;VALUE=DATE:20221025
DTEND;VALUE=DATE:20221026
DTSTAMP:20260425T060642
CREATED:20220828T173622Z
LAST-MODIFIED:20220828T173622Z
UID:13066-1666656000-1666742399@elmgrovejuniorguild.org
SUMMARY:Fundraiser: Divine Consign Tagging Party (Nov. 2-6)
DESCRIPTION:
URL:https://elmgrovejuniorguild.org/event/fundraiser-divine-consign-tagging-party-nov-2-6/
ATTACH;FMTTYPE=image/png:https://elmgrovejuniorguild.org/wp-content/uploads/2022/04/Divine-Consign-Logo-white-on-navy.png
END:VEVENT
BEGIN:VEVENT
DTSTART;TZID=America/Chicago:20221011T180000
DTEND;TZID=America/Chicago:20221011T200000
DTSTAMP:20260425T060642
CREATED:20220828T174645Z
LAST-MODIFIED:20220907T224421Z
UID:13084-1665511200-1665518400@elmgrovejuniorguild.org
SUMMARY:Elm Grove Fire Department Open House
DESCRIPTION:
URL:https://elmgrovejuniorguild.org/event/elm-grove-fire-department-open-house/
CATEGORIES:Public
ATTACH;FMTTYPE=image/jpeg:https://elmgrovejuniorguild.org/wp-content/uploads/2022/08/fire-department.jpg
END:VEVENT
BEGIN:VEVENT
DTSTART;TZID=America/Chicago:20221004T183000
DTEND;TZID=America/Chicago:20221004T210000
DTSTAMP:20260425T060642
CREATED:20220907T204238Z
LAST-MODIFIED:20220907T223659Z
UID:13129-1664908200-1664917200@elmgrovejuniorguild.org
SUMMARY:October General Meeting: "Free the Girls" Bra Fitting
DESCRIPTION:Content is protected.
URL:https://elmgrovejuniorguild.org/event/october-general-meeting-free-the-girls-bra-fitting/
LOCATION:Home of Meg Troy\, 1005 San Jose Dr.\, Elm Grove\, WI\, 53122\, United States
CATEGORIES:Members
END:VEVENT
BEGIN:VEVENT
DTSTART;TZID=America/Chicago:20220917T090000
DTEND;TZID=America/Chicago:20220917T120000
DTSTAMP:20260425T060642
CREATED:20220828T174820Z
LAST-MODIFIED:20220907T223231Z
UID:13086-1663405200-1663416000@elmgrovejuniorguild.org
SUMMARY:Elm Grove Shred Day
DESCRIPTION:
URL:https://elmgrovejuniorguild.org/event/elm-grove-shred-day/
CATEGORIES:Public
ATTACH;FMTTYPE=image/jpeg:https://elmgrovejuniorguild.org/wp-content/uploads/2022/08/shred-day.jpg
END:VEVENT
BEGIN:VEVENT
DTSTART;TZID=America/Chicago:20220916T080000
DTEND;TZID=America/Chicago:20220930T170000
DTSTAMP:20260425T060642
CREATED:20220828T171720Z
LAST-MODIFIED:20220918T170543Z
UID:13049-1663315200-1664557200@elmgrovejuniorguild.org
SUMMARY:Fundraiser - MKE Pretzel Co
DESCRIPTION:We are excited to kick off the year with our September fundraiser. We are pairing with the Milwaukee Pretzel Company once again. If you have not yet enjoyed a soft pretzel from Milwaukee Pretzel Company’s pretzels\, please know they are DELICIOUS and you will not regret ordering the pretzels in mass quantities! Please share this order form with friends\, family\, co-workers\, your neighbors – everyone! \n\nAs you will see in the order form\, we have the opportunity to order:  \n\n\nOne 16 oz Bavarian Beast Soft Pretzel: $10 \nPackage of Five 5 oz Soft Pretzels: $15\nPackage of Ten 5 oz Soft Pretzels: $30\n\n\n\nTo place your order\, visit\nhttps://forms.gle/povDcqLNcGQUoipZA\n\n\n\n\nOrders must be submitted by end of day Friday\, September 30th and if you select the pick-up option\, pretzels can be picked up the week of October 24th – just in time for Halloween! Pretzel pick up address will be sent out at a later date and will be in Elm Grove. Pretzels can also be shipped directly from Milwaukee Pretzel for an additional charge (we do not receive 50% of the shipping charge).  \n \nTo read more about Milwaukee Pretzel visit Milwaukee Pretzel Co.
URL:https://elmgrovejuniorguild.org/event/fundraiser-mke-pretzel-co/
CATEGORIES:Members,Public
ATTACH;FMTTYPE=image/jpeg:https://elmgrovejuniorguild.org/wp-content/uploads/2022/08/images.jpeg
END:VEVENT
BEGIN:VEVENT
DTSTART;VALUE=DATE:20220916
DTEND;VALUE=DATE:20220918
DTSTAMP:20260425T060642
CREATED:20220828T173603Z
LAST-MODIFIED:20220907T222705Z
UID:13065-1663286400-1663459199@elmgrovejuniorguild.org
SUMMARY:Elm Grove Oktoberfest
DESCRIPTION:
URL:https://elmgrovejuniorguild.org/event/elm-grove-oktoberfest/
LOCATION:Elm Grove Village Park\, 13600 Juneau Blvd\, Elm Grove\, 53122\, United States
ATTACH;FMTTYPE=image/jpeg:https://elmgrovejuniorguild.org/wp-content/uploads/2022/09/Oktoberfest.jpeg
END:VEVENT
BEGIN:VEVENT
DTSTART;TZID=America/Chicago:20220913T183000
DTEND;TZID=America/Chicago:20220913T210000
DTSTAMP:20260425T060642
CREATED:20220828T171414Z
LAST-MODIFIED:20220904T202303Z
UID:13048-1663093800-1663102800@elmgrovejuniorguild.org
SUMMARY:EGJG Kickoff Event
DESCRIPTION:
URL:https://elmgrovejuniorguild.org/event/egjg-kickoff-event/
LOCATION:Biloba Brewing Company\, 2970 N. Brookfield Rd.\, Brookfield\, WI\, 53045\, United States
CATEGORIES:Associates,Board,Members
ATTACH;FMTTYPE=image/png:https://elmgrovejuniorguild.org/wp-content/uploads/2022/08/biloba.png
END:VEVENT
BEGIN:VEVENT
DTSTART;TZID=America/Chicago:20220907T080000
DTEND;TZID=America/Chicago:20220907T170000
DTSTAMP:20260425T060642
CREATED:20220907T221029Z
LAST-MODIFIED:20220907T221029Z
UID:13151-1662537600-1662570000@elmgrovejuniorguild.org
SUMMARY:Mid-Year Executive Board & Committee Chairs Meeting
DESCRIPTION:
URL:https://elmgrovejuniorguild.org/event/mid-year-executive-board-committee-chairs-meeting-2/
CATEGORIES:Members
ATTACH;FMTTYPE=image/jpeg:https://elmgrovejuniorguild.org/wp-content/uploads/2021/09/general-meeting.jpg
END:VEVENT
BEGIN:VEVENT
DTSTART;TZID=America/Chicago:20220906T183000
DTEND;TZID=America/Chicago:20220906T200000
DTSTAMP:20260425T060642
CREATED:20220828T172538Z
LAST-MODIFIED:20220829T211554Z
UID:13057-1662489000-1662494400@elmgrovejuniorguild.org
SUMMARY:Budget Planning Meeting
DESCRIPTION:
URL:https://elmgrovejuniorguild.org/event/budget-planning-meeting-2/
CATEGORIES:Board,Members
ATTACH;FMTTYPE=image/png:https://elmgrovejuniorguild.org/wp-content/uploads/2022/08/BudgetPlanning.png
END:VEVENT
BEGIN:VEVENT
DTSTART;TZID=America/Chicago:20220904T203000
DTEND;TZID=America/Chicago:20220904T210000
DTSTAMP:20260425T060642
CREATED:20220828T172906Z
LAST-MODIFIED:20220902T002759Z
UID:13059-1662323400-1662325200@elmgrovejuniorguild.org
SUMMARY:September 4th Fireworks
DESCRIPTION:
URL:https://elmgrovejuniorguild.org/event/september-4th-fireworks/
LOCATION:Elm Grove Village Park\, 13600 Juneau Blvd\, Elm Grove\, 53122\, United States
CATEGORIES:Public
ATTACH;FMTTYPE=image/jpeg:https://elmgrovejuniorguild.org/wp-content/uploads/2022/08/Fireworks.jpg
END:VEVENT
BEGIN:VEVENT
DTSTART;VALUE=DATE:20220810
DTEND;VALUE=DATE:20220811
DTSTAMP:20260425T060642
CREATED:20211005T034437Z
LAST-MODIFIED:20211005T034437Z
UID:12779-1660089600-1660175999@elmgrovejuniorguild.org
SUMMARY:Elm Grove Junior Guild Blood Drive
DESCRIPTION:
URL:https://elmgrovejuniorguild.org/event/elm-grove-junior-guild-blood-drive-2/
LOCATION:Tonawanda Elementary School\, 13605 Underwood Parkway\, Elm Grove\, WI\, 53122\, United States
CATEGORIES:Public
ATTACH;FMTTYPE=image/jpeg:https://elmgrovejuniorguild.org/wp-content/uploads/2021/05/Blood-Drive-Calendar-Listing.jpg
END:VEVENT
END:VCALENDAR