BEGIN:VCALENDAR
VERSION:2.0
PRODID:-//Elm Grove Junior Guild - ECPv6.15.20//NONSGML v1.0//EN
CALSCALE:GREGORIAN
METHOD:PUBLISH
X-WR-CALNAME:Elm Grove Junior Guild
X-ORIGINAL-URL:https://elmgrovejuniorguild.org
X-WR-CALDESC:Events for Elm Grove Junior Guild
REFRESH-INTERVAL;VALUE=DURATION:PT1H
X-Robots-Tag:noindex
X-PUBLISHED-TTL:PT1H
BEGIN:VTIMEZONE
TZID:America/Chicago
BEGIN:DAYLIGHT
TZOFFSETFROM:-0600
TZOFFSETTO:-0500
TZNAME:CDT
DTSTART:20210314T080000
END:DAYLIGHT
BEGIN:STANDARD
TZOFFSETFROM:-0500
TZOFFSETTO:-0600
TZNAME:CST
DTSTART:20211107T070000
END:STANDARD
BEGIN:DAYLIGHT
TZOFFSETFROM:-0600
TZOFFSETTO:-0500
TZNAME:CDT
DTSTART:20220313T080000
END:DAYLIGHT
BEGIN:STANDARD
TZOFFSETFROM:-0500
TZOFFSETTO:-0600
TZNAME:CST
DTSTART:20221106T070000
END:STANDARD
BEGIN:DAYLIGHT
TZOFFSETFROM:-0600
TZOFFSETTO:-0500
TZNAME:CDT
DTSTART:20230312T080000
END:DAYLIGHT
BEGIN:STANDARD
TZOFFSETFROM:-0500
TZOFFSETTO:-0600
TZNAME:CST
DTSTART:20231105T070000
END:STANDARD
END:VTIMEZONE
BEGIN:VEVENT
DTSTART;VALUE=DATE:20221201
DTEND;VALUE=DATE:20221202
DTSTAMP:20260425T200814
CREATED:20221102T232041Z
LAST-MODIFIED:20221102T232235Z
UID:13210-1669852800-1669939199@elmgrovejuniorguild.org
SUMMARY:Deadline for members to purchase Gala tickets
DESCRIPTION:https://one.bidpal.net/egjggala2023/welcome
URL:https://elmgrovejuniorguild.org/event/deadline-for-members-to-purchase-gala-tickets/
LOCATION:WI
END:VEVENT
BEGIN:VEVENT
DTSTART;VALUE=DATE:20221201
DTEND;VALUE=DATE:20221216
DTSTAMP:20260425T200814
CREATED:20221102T235127Z
LAST-MODIFIED:20221102T235127Z
UID:13220-1669852800-1671148799@elmgrovejuniorguild.org
SUMMARY:December Community Service- Christmas Clearing Council of Waukesha County
DESCRIPTION:https://www.christmasclearingcouncil.org/ \nDonations due to the Guild by December 15th
URL:https://elmgrovejuniorguild.org/event/december-community-service-christmas-clearing-council-of-waukesha-county/
LOCATION:WI
ATTACH;FMTTYPE=image/jpeg:https://elmgrovejuniorguild.org/wp-content/uploads/2021/02/ChristmasClearingCouncil.jpg
END:VEVENT
BEGIN:VEVENT
DTSTART;VALUE=DATE:20221204
DTEND;VALUE=DATE:20221205
DTSTAMP:20260425T200814
CREATED:20220828T174442Z
LAST-MODIFIED:20220828T174442Z
UID:13078-1670112000-1670198399@elmgrovejuniorguild.org
SUMMARY:Elm Grove Library Lights of Love Tree Lighting
DESCRIPTION:
URL:https://elmgrovejuniorguild.org/event/elm-grove-library-lights-of-love-tree-lighting/
LOCATION:WI
CATEGORIES:Public
END:VEVENT
BEGIN:VEVENT
DTSTART;TZID=America/Chicago:20221206T183000
DTEND;TZID=America/Chicago:20221206T210000
DTSTAMP:20260425T200814
CREATED:20220828T174431Z
LAST-MODIFIED:20221102T234026Z
UID:13077-1670351400-1670360400@elmgrovejuniorguild.org
SUMMARY:December General Meeting: Holiday Party
DESCRIPTION:Content is protected.
URL:https://elmgrovejuniorguild.org/event/december-general-meeting-holiday-party-2/
LOCATION:Home of Kate Kelly\, 14980 Juneau Blvd.\, Elm Grove\, WI\, 53122\, United States
CATEGORIES:Associates,Board,Members
END:VEVENT
BEGIN:VEVENT
DTSTART;TZID=America/Chicago:20221212T160000
DTEND;TZID=America/Chicago:20221212T210000
DTSTAMP:20260425T200814
CREATED:20220907T215214Z
LAST-MODIFIED:20220907T215214Z
UID:13137-1670860800-1670878800@elmgrovejuniorguild.org
SUMMARY:Fundraiser: Lou Malnati's
DESCRIPTION:
URL:https://elmgrovejuniorguild.org/event/fundraiser-lou-malnatis/
LOCATION:WI
CATEGORIES:Public
ATTACH;FMTTYPE=image/jpeg:https://elmgrovejuniorguild.org/wp-content/uploads/2022/09/lou-malnatis-approved-for-fox-point_fullsize_story1.jpg
END:VEVENT
BEGIN:VEVENT
DTSTART;TZID=America/Chicago:20221217T090000
DTEND;TZID=America/Chicago:20221217T123000
DTSTAMP:20260425T200814
CREATED:20220907T215402Z
LAST-MODIFIED:20221120T232945Z
UID:13140-1671267600-1671280200@elmgrovejuniorguild.org
SUMMARY:Breakfast with Santa
DESCRIPTION:This year’s event will feature an all-you-can-eat breakfast buffet\, live music and the opportunity to meet Santa and take photos. \nAdvance ticket purchase required. Children under age 2 are not required to have a ticket and may sit on the lap of an adult for free. \nChoose from a 9am (SOLD OUT) or 11am seating. \nFor tickets\, please visit the Elm Grove Women’s Club website:  https://www.egwc.org/events/breakfast-with-santa \n 
URL:https://elmgrovejuniorguild.org/event/santa-brunch-2/
LOCATION:Elm Grove Women’s Club\, 13885 Watertown Plank Road\, Elm Grove\, WI\, 53122\, United States
CATEGORIES:Public
ATTACH;FMTTYPE=image/webp:https://elmgrovejuniorguild.org/wp-content/uploads/2022/09/breakfast-with-santa.webp
END:VEVENT
END:VCALENDAR